BEGIN:VCALENDAR
VERSION:2.0
PRODID:-//SLO Classical Academy - ECPv6.15.15//NONSGML v1.0//EN
CALSCALE:GREGORIAN
METHOD:PUBLISH
X-WR-CALNAME:SLO Classical Academy
X-ORIGINAL-URL:https://sloclassical.org
X-WR-CALDESC:Events for SLO Classical Academy
REFRESH-INTERVAL;VALUE=DURATION:PT1H
X-Robots-Tag:noindex
X-PUBLISHED-TTL:PT1H
BEGIN:VTIMEZONE
TZID:America/Los_Angeles
BEGIN:DAYLIGHT
TZOFFSETFROM:-0800
TZOFFSETTO:-0700
TZNAME:PDT
DTSTART:20240310T100000
END:DAYLIGHT
BEGIN:STANDARD
TZOFFSETFROM:-0700
TZOFFSETTO:-0800
TZNAME:PST
DTSTART:20241103T090000
END:STANDARD
BEGIN:DAYLIGHT
TZOFFSETFROM:-0800
TZOFFSETTO:-0700
TZNAME:PDT
DTSTART:20250309T100000
END:DAYLIGHT
BEGIN:STANDARD
TZOFFSETFROM:-0700
TZOFFSETTO:-0800
TZNAME:PST
DTSTART:20251102T090000
END:STANDARD
BEGIN:DAYLIGHT
TZOFFSETFROM:-0800
TZOFFSETTO:-0700
TZNAME:PDT
DTSTART:20260308T100000
END:DAYLIGHT
BEGIN:STANDARD
TZOFFSETFROM:-0700
TZOFFSETTO:-0800
TZNAME:PST
DTSTART:20261101T090000
END:STANDARD
END:VTIMEZONE
BEGIN:VEVENT
DTSTART;TZID=America/Los_Angeles:20251014T180000
DTEND;TZID=America/Los_Angeles:20251014T200000
DTSTAMP:20260420T025519
CREATED:20250912T040221Z
LAST-MODIFIED:20251014T035608Z
UID:52354-1760464800-1760472000@sloclassical.org
SUMMARY:Varsity Girls Volleyball Senior Night vs. Cuyama
DESCRIPTION:Senior Night! Tickets Available Here \nThe seniors will be recognized at 5:45pm\, prior to the game start time so please arrive early!
URL:https://sloclassical.org/event/varsity-girls-volleyball-senior-night-vs-cuyama/
LOCATION:SLO Naz
CATEGORIES:Athletics
END:VEVENT
END:VCALENDAR